BEGIN:VCALENDAR
VERSION:2.0
PRODID:-//AFLD - ECPv6.2.9//NONSGML v1.0//EN
CALSCALE:GREGORIAN
METHOD:PUBLISH
X-WR-CALNAME:AFLD
X-ORIGINAL-URL:https://www.afld.fr
X-WR-CALDESC:évènements pour AFLD
REFRESH-INTERVAL;VALUE=DURATION:PT1H
X-Robots-Tag:noindex
X-PUBLISHED-TTL:PT1H
BEGIN:VTIMEZONE
TZID:Europe/Paris
BEGIN:DAYLIGHT
TZOFFSETFROM:+0100
TZOFFSETTO:+0200
TZNAME:CEST
DTSTART:20160327T010000
END:DAYLIGHT
BEGIN:STANDARD
TZOFFSETFROM:+0200
TZOFFSETTO:+0100
TZNAME:CET
DTSTART:20161030T010000
END:STANDARD
END:VTIMEZONE
BEGIN:VEVENT
DTSTART;TZID=Europe/Paris:20160622T090000
DTEND;TZID=Europe/Paris:20160622T123000
DTSTAMP:20260425T124346
CREATED:20151116T095432Z
LAST-MODIFIED:20151116T095432Z
UID:2190-1466586000-1466598600@www.afld.fr
SUMMARY:Séance du Collège de l'AFLD
DESCRIPTION:
URL:https://www.afld.fr/evenement/seance-du-college-de-lafld-15/
END:VEVENT
END:VCALENDAR