BEGIN:VCALENDAR
VERSION:2.0
PRODID:-//AFLD - ECPv6.2.9//NONSGML v1.0//EN
CALSCALE:GREGORIAN
METHOD:PUBLISH
X-ORIGINAL-URL:https://www.afld.fr
X-WR-CALDESC:évènements pour AFLD
REFRESH-INTERVAL;VALUE=DURATION:PT1H
X-Robots-Tag:noindex
X-PUBLISHED-TTL:PT1H
BEGIN:VTIMEZONE
TZID:Europe/Paris
BEGIN:DAYLIGHT
TZOFFSETFROM:+0100
TZOFFSETTO:+0200
TZNAME:CEST
DTSTART:20180325T010000
END:DAYLIGHT
BEGIN:STANDARD
TZOFFSETFROM:+0200
TZOFFSETTO:+0100
TZNAME:CET
DTSTART:20181028T010000
END:STANDARD
END:VTIMEZONE
BEGIN:VEVENT
DTSTART;TZID=Europe/Paris:20180328T090000
DTEND;TZID=Europe/Paris:20180328T120000
DTSTAMP:20260426T023156
CREATED:20180319T143108Z
LAST-MODIFIED:20180319T143108Z
UID:7566-1522227600-1522238400@www.afld.fr
SUMMARY:Séance du Collège de l’AFLD
DESCRIPTION:
URL:https://www.afld.fr/evenement/seance-college-de-lafld/
END:VEVENT
END:VCALENDAR