BEGIN:VCALENDAR
VERSION:2.0
PRODID:-//AFLD - ECPv6.2.9//NONSGML v1.0//EN
CALSCALE:GREGORIAN
METHOD:PUBLISH
X-ORIGINAL-URL:https://www.afld.fr
X-WR-CALDESC:évènements pour AFLD
REFRESH-INTERVAL;VALUE=DURATION:PT1H
X-Robots-Tag:noindex
X-PUBLISHED-TTL:PT1H
BEGIN:VTIMEZONE
TZID:Europe/Paris
BEGIN:DAYLIGHT
TZOFFSETFROM:+0100
TZOFFSETTO:+0200
TZNAME:CEST
DTSTART:20150329T010000
END:DAYLIGHT
BEGIN:STANDARD
TZOFFSETFROM:+0200
TZOFFSETTO:+0100
TZNAME:CET
DTSTART:20151025T010000
END:STANDARD
END:VTIMEZONE
BEGIN:VEVENT
DTSTART;TZID=Europe/Paris:20151202T090000
DTEND;TZID=Europe/Paris:20151202T123000
DTSTAMP:20260424T112126
CREATED:20150917T201005Z
LAST-MODIFIED:20151116T094702Z
UID:191-1449046800-1449059400@www.afld.fr
SUMMARY:Séance du Collège de l'AFLD
DESCRIPTION:
URL:https://www.afld.fr/evenement/seance-du-college-de-lafld-2/
END:VEVENT
BEGIN:VEVENT
DTSTART;TZID=Europe/Paris:20151216T090000
DTEND;TZID=Europe/Paris:20151216T123000
DTSTAMP:20260424T112126
CREATED:20150917T201152Z
LAST-MODIFIED:20151116T094816Z
UID:192-1450256400-1450269000@www.afld.fr
SUMMARY:Séance du Collège de l'AFLD
DESCRIPTION:
URL:https://www.afld.fr/evenement/seance-du-college-de-lafld-3/
END:VEVENT
END:VCALENDAR