BEGIN:VCALENDAR
VERSION:2.0
PRODID:-//AFLD - ECPv6.2.9//NONSGML v1.0//EN
CALSCALE:GREGORIAN
METHOD:PUBLISH
X-WR-CALNAME:AFLD
X-ORIGINAL-URL:https://www.afld.fr
X-WR-CALDESC:évènements pour AFLD
REFRESH-INTERVAL;VALUE=DURATION:PT1H
X-Robots-Tag:noindex
X-PUBLISHED-TTL:PT1H
BEGIN:VTIMEZONE
TZID:Europe/Paris
BEGIN:DAYLIGHT
TZOFFSETFROM:+0100
TZOFFSETTO:+0200
TZNAME:CEST
DTSTART:20160327T010000
END:DAYLIGHT
BEGIN:STANDARD
TZOFFSETFROM:+0200
TZOFFSETTO:+0100
TZNAME:CET
DTSTART:20161030T010000
END:STANDARD
END:VTIMEZONE
BEGIN:VEVENT
DTSTART;TZID=Europe/Paris:20160302T090000
DTEND;TZID=Europe/Paris:20160302T123000
DTSTAMP:20260425T024021
CREATED:20151116T095120Z
LAST-MODIFIED:20151116T095120Z
UID:2183-1456909200-1456921800@www.afld.fr
SUMMARY:Séance du Collège de l'AFLD
DESCRIPTION:
URL:https://www.afld.fr/evenement/seance-du-college-de-lafld-8/
END:VEVENT
BEGIN:VEVENT
DTSTART;TZID=Europe/Paris:20160314T080000
DTEND;TZID=Europe/Paris:20160314T080000
DTSTAMP:20260425T024021
CREATED:20151223T113219Z
LAST-MODIFIED:20151223T113233Z
UID:4927-1457942400-1457942400@www.afld.fr
SUMMARY:Appel à projets de recherche 2016
DESCRIPTION:Clôture du recueil des lettres d’intention
URL:https://www.afld.fr/evenement/appel-a-projets-de-recherche-2016/
END:VEVENT
BEGIN:VEVENT
DTSTART;TZID=Europe/Paris:20160324T090000
DTEND;TZID=Europe/Paris:20160324T123000
DTSTAMP:20260425T024021
CREATED:20151116T095148Z
LAST-MODIFIED:20151116T095148Z
UID:2184-1458810000-1458822600@www.afld.fr
SUMMARY:Séance du Collège de l'AFLD
DESCRIPTION:
URL:https://www.afld.fr/evenement/seance-du-college-de-lafld-9/
END:VEVENT
BEGIN:VEVENT
DTSTART;VALUE=DATE:20160329
DTEND;VALUE=DATE:20160330
DTSTAMP:20260425T024021
CREATED:20151223T113338Z
LAST-MODIFIED:20151223T113349Z
UID:4928-1459209600-1459295999@www.afld.fr
SUMMARY:Appel à projets de recherche 2016
DESCRIPTION:Résultats de l’évaluation des candidatures préliminaires
URL:https://www.afld.fr/evenement/appel-a-projets-de-recherche-2016-2/
END:VEVENT
BEGIN:VEVENT
DTSTART;VALUE=DATE:20160331
DTEND;VALUE=DATE:20160401
DTSTAMP:20260425T024021
CREATED:20160126T153754Z
LAST-MODIFIED:20160126T153754Z
UID:5039-1459382400-1459468799@www.afld.fr
SUMMARY:Elections professionnelles au comité consultatif paritaire de l'AFLD
DESCRIPTION:Elections professionnelles 2016
URL:https://www.afld.fr/evenement/elections-professionnelles-au-comite-consultatif-paritaire-de-lafld/
END:VEVENT
END:VCALENDAR